BEGIN:VCALENDAR
VERSION:2.0
PRODID:spatie/icalendar-generator
DESCRIPTION:Events from St. Stanislaus School
X-WR-CALDESC:Events from St. Stanislaus School
REFRESH-INTERVAL;VALUE=DURATION:PT1440M
X-PUBLISHED-TTL:PT1440M
BEGIN:VTIMEZONE
TZID:America/New_York
BEGIN:STANDARD
DTSTART:20181104T020000Z
TZOFFSETFROM:-0400
TZOFFSETTO:-0500
END:STANDARD
BEGIN:DAYLIGHT
DTSTART:20190310T020000Z
TZOFFSETFROM:-0500
TZOFFSETTO:-0400
END:DAYLIGHT
BEGIN:STANDARD
DTSTART:20191103T020000Z
TZOFFSETFROM:-0400
TZOFFSETTO:-0500
END:STANDARD
END:VTIMEZONE
BEGIN:VTIMEZONE
TZID:UTC
BEGIN:STANDARD
DTSTART:20250725T084409Z
TZOFFSETFROM:+0000
TZOFFSETTO:+0000
END:STANDARD
END:VTIMEZONE
BEGIN:VEVENT
UID:588-100
DTSTAMP:20260421T084409Z
SUMMARY:Picnic - Rain Date
LOCATION:
ORGANIZER;CN=saintstanislaus:MAILTO:lbielin@saintstansschool.org
DTSTART;TZID=America/New_York;VALUE=DATE:20190523
DTEND;TZID=America/New_York;VALUE=DATE:20190524
X-ALT-DESC;FMTTYPE=TEXT/HTML:
CATEGORIES:General
URL;VALUE=URI:https://saintstansschool.org/mc-events/picnic-rain-date/?mc_i
 d=588
END:VEVENT
END:VCALENDAR