BEGIN:VCALENDAR
VERSION:2.0
PRODID:spatie/icalendar-generator
DESCRIPTION:Events from St. Stanislaus School
X-WR-CALDESC:Events from St. Stanislaus School
REFRESH-INTERVAL;VALUE=DURATION:PT1440M
X-PUBLISHED-TTL:PT1440M
BEGIN:VTIMEZONE
TZID:America/New_York
BEGIN:DAYLIGHT
DTSTART:20180311T020000Z
TZOFFSETFROM:-0500
TZOFFSETTO:-0400
END:DAYLIGHT
BEGIN:STANDARD
DTSTART:20181104T020000Z
TZOFFSETFROM:-0400
TZOFFSETTO:-0500
END:STANDARD
END:VTIMEZONE
BEGIN:VTIMEZONE
TZID:UTC
BEGIN:STANDARD
DTSTART:20250725T084541Z
TZOFFSETFROM:+0000
TZOFFSETTO:+0000
END:STANDARD
END:VTIMEZONE
BEGIN:VEVENT
UID:488-5
DTSTAMP:20260421T084541Z
SUMMARY:First Day of School Gr. 1 - 8
LOCATION:
ORGANIZER;CN=saintstanislaus:MAILTO:lbielin@saintstansschool.org
DTSTART;TZID=America/New_York;VALUE=DATE:20180827
DTEND;TZID=America/New_York;VALUE=DATE:20180828
X-ALT-DESC;FMTTYPE=TEXT/HTML:
CATEGORIES:General
URL;VALUE=URI:https://saintstansschool.org/mc-events/first-day-of-school-gr
 -1-8/?mc_id=488
END:VEVENT
END:VCALENDAR