BEGIN:VCALENDAR
VERSION:2.0
PRODID:spatie/icalendar-generator
DESCRIPTION:Events from St. Stanislaus School
X-WR-CALDESC:Events from St. Stanislaus School
REFRESH-INTERVAL;VALUE=DURATION:PT1440M
X-PUBLISHED-TTL:PT1440M
BEGIN:VTIMEZONE
TZID:America/New_York
BEGIN:STANDARD
DTSTART:20181104T020000Z
TZOFFSETFROM:-0400
TZOFFSETTO:-0500
END:STANDARD
BEGIN:DAYLIGHT
DTSTART:20190310T020000Z
TZOFFSETFROM:-0500
TZOFFSETTO:-0400
END:DAYLIGHT
END:VTIMEZONE
BEGIN:VTIMEZONE
TZID:UTC
BEGIN:STANDARD
DTSTART:20250725T084616Z
TZOFFSETFROM:+0000
TZOFFSETTO:+0000
END:STANDARD
END:VTIMEZONE
BEGIN:VEVENT
UID:543-57
DTSTAMP:20260421T084616Z
SUMMARY:1/2 Day - 11:30AM Dismissal - No After School Program
LOCATION:
ORGANIZER;CN=saintstanislaus:MAILTO:lbielin@saintstansschool.org
DTSTART;TZID=America/New_York:20181221T113000
DTEND;TZID=America/New_York:20181221T123000
X-ALT-DESC;FMTTYPE=TEXT/HTML:
CATEGORIES:General
URL;VALUE=URI:https://saintstansschool.org/mc-events/1-2-day-1130am-dismiss
 al-no-after-school-program/?mc_id=543
END:VEVENT
END:VCALENDAR